BEGIN:VCALENDAR
VERSION:2.0
PRODID:-//Colau beim CCV - ECPv6.15.20//NONSGML v1.0//EN
CALSCALE:GREGORIAN
METHOD:PUBLISH
X-ORIGINAL-URL:https://c-c-v.info
X-WR-CALDESC:Veranstaltungen für Colau beim CCV
REFRESH-INTERVAL;VALUE=DURATION:PT1H
X-Robots-Tag:noindex
X-PUBLISHED-TTL:PT1H
BEGIN:VTIMEZONE
TZID:UTC
BEGIN:STANDARD
TZOFFSETFROM:+0000
TZOFFSETTO:+0000
TZNAME:UTC
DTSTART:20210101T000000
END:STANDARD
END:VTIMEZONE
BEGIN:VEVENT
DTSTART;TZID=UTC:20260216T141100
DTEND;TZID=UTC:20260216T230000
DTSTAMP:20260419T184542
CREATED:20241006T090037Z
LAST-MODIFIED:20260104T121918Z
UID:1574-1771251060-1771282800@c-c-v.info
SUMMARY:51. Rosenmontagszug des CCV
DESCRIPTION:Alle Narren sind schon wieder jeck uff de Cobbenroder Zug. \nIn diesem Jahr feiern wir den 51. Zug. \nAb Rosenmontag-Mittag ist der Ort im Ausnahmezustand.\nTausende Besucher werden wie jedes Jahr erwartet. \nMotivwagen und Fußgruppen sind wieder mit von der Partie. \nAnschließend die Große After-Zug-Party in der Schützenhalle mit Live-Musik von der Top Band Kölsch Connection aus Lennestadt und DJ Torero. \nViel Vergnügen wünscht Euch Euer CCV-Präsidium. \n 
URL:https://c-c-v.info/event/50-rosenmontagszug-des-ccv
LOCATION:Schützenhalle Cobbenrode\, Olper Straße 11\, Eslohe\, NRW\, 59889\, Deutschland
CATEGORIES:Session 2025/26,Termine
ATTACH;FMTTYPE=image/jpeg:https://c-c-v.info/wp-content/uploads/2023/02/20a1d75a-b1e8-11ed-a3df-6c3f29285c2e.jpg
ORGANIZER;CN="Cobbenroder Carneval Verein CCV e.V":MAILTO:info@c-c-v.info
END:VEVENT
BEGIN:VEVENT
DTSTART;TZID=UTC:20260215T193300
DTEND;TZID=UTC:20260215T235900
DTSTAMP:20260419T184542
CREATED:20231226T092502Z
LAST-MODIFIED:20260104T122041Z
UID:881-1771183980-1771199940@c-c-v.info
SUMMARY:Bunt Jeck in den Rosenmontag
DESCRIPTION:“DIE” Kultparty im Cobbenroder Karneval.\nDer Geheimtipp für alle Jecken im Sauerland.\nKarnevalsschlager und die Top-Acts der Prunksitzung. \nIn diesem Jahr mit der Cobbenrode Band “Shabby Aftertaste” \n 
URL:https://c-c-v.info/event/bunt-jeck-in-den-rosenmontag
LOCATION:Schützenhalle Cobbenrode\, Olper Straße 11\, Eslohe\, NRW\, 59889\, Deutschland
CATEGORIES:Session 2025/26,Termine
ORGANIZER;CN="Cobbenroder Carneval Verein CCV e.V":MAILTO:info@c-c-v.info
END:VEVENT
BEGIN:VEVENT
DTSTART;TZID=UTC:20260215T150000
DTEND;TZID=UTC:20260215T180000
DTSTAMP:20260419T184542
CREATED:20231226T092502Z
LAST-MODIFIED:20260104T122136Z
UID:878-1771167600-1771178400@c-c-v.info
SUMMARY:Kinderkarneval beim CCV
DESCRIPTION:Ein Programm von Kindern für Kinder. \n  \n  \n 
URL:https://c-c-v.info/event/kinderkarneval-beim-ccv
LOCATION:Schützenhalle Cobbenrode\, Olper Straße 11\, Eslohe\, NRW\, 59889\, Deutschland
CATEGORIES:Session 2025/26,Termine
ATTACH;FMTTYPE=image/jpeg:https://c-c-v.info/wp-content/uploads/2023/01/20120219_153642-scaled.jpg
ORGANIZER;CN="Cobbenroder Carneval Verein CCV e.V":MAILTO:info@c-c-v.info
END:VEVENT
BEGIN:VEVENT
DTSTART;TZID=UTC:20260208T111100
DTEND;TZID=UTC:20260208T171100
DTSTAMP:20260419T184542
CREATED:20231226T092502Z
LAST-MODIFIED:20260104T122356Z
UID:459-1770549060-1770570660@c-c-v.info
SUMMARY:Herrensitzung des CCV
DESCRIPTION:Der geilste Frühschoppen des Jahres ist wieder da. \nResttickets unter \nhttps://cobbenrode.shop/c/herrensitzung-2026 \n  \n 
URL:https://c-c-v.info/event/herrensitzung-des-ccv
LOCATION:Schützenhalle Cobbenrode\, Olper Straße 11\, Eslohe\, NRW\, 59889\, Deutschland
CATEGORIES:Session 2025/26,Termine
ATTACH;FMTTYPE=image/jpeg:https://c-c-v.info/wp-content/uploads/2022/04/FB_IMG_1650778109224.jpg
ORGANIZER;CN="Cobbenroder Carneval Verein CCV e.V":MAILTO:info@c-c-v.info
END:VEVENT
BEGIN:VEVENT
DTSTART;TZID=UTC:20260131T191100
DTEND;TZID=UTC:20260131T235900
DTSTAMP:20260419T184542
CREATED:20241117T092421Z
LAST-MODIFIED:20260105T180128Z
UID:1607-1769886660-1769903940@c-c-v.info
SUMMARY:ViVa Carneval 2026 - die Karnevalsparty des CCV
DESCRIPTION:Viva Carneval 2026 \nDer CCV veranstaltet wieder dieses neue Format\, nach dem großartigen Erfolg im letzten Jahr . \nEin Karnevalsabend mit Garde-und Showtänzen der einheimischen Tanzgruppen aus dem gesamten Gebiet des Sauerlandes. \nLive-Musik mit der TOP-Karnevalsband “Kölsch Connection” aus Lennestadt und Karnevalsparty mit DJ PAT aus dem Team von DJ Torero am \nSamstag 31. Februar 2026 in der Schützenhalle Cobbenrode \nTickets im Vorverkauf 10\,- Euro. Abendkasse 13\,- Euro \n\nHier geht´s zum Shop\n\nhttps://cobbenrode.shop/c/viva-carneval-2026 \n  \n  \n 
URL:https://c-c-v.info/event/viva-carneval-2025-vol-1-ehem-prunksitzung
LOCATION:Schützenhalle Cobbenrode\, Olper Straße 11\, Eslohe\, NRW\, 59889\, Deutschland
CATEGORIES:Session 2025/26,Termine
ATTACH;FMTTYPE=image/jpeg:https://c-c-v.info/wp-content/uploads/2024/11/IMG-20260105-WA0004.jpg
END:VEVENT
BEGIN:VEVENT
DTSTART;TZID=UTC:20260117T193000
DTEND;TZID=UTC:20260117T203000
DTSTAMP:20260419T184542
CREATED:20231126T101110Z
LAST-MODIFIED:20260104T121054Z
UID:301-1768678200-1768681800@c-c-v.info
SUMMARY:Generalversammlung des CCV
DESCRIPTION:Der neue Termin der Generalversammlung des Cobbenroder Carneval Verein CCV e.V.\nist \nSamstag\, der 17.Januar 2026 um ca. 19.30 Uhr \n(nach der Versammlung der Schützenbruderschaft)
URL:https://c-c-v.info/event/generalversammlung-des-ccv
LOCATION:NRW
CATEGORIES:Session 2025/26
ATTACH;FMTTYPE=image/gif:https://c-c-v.info/wp-content/uploads/2022/04/CCV-Eule.gif
ORGANIZER;CN="Cobbenroder Carneval Verein CCV e.V":MAILTO:info@c-c-v.info
END:VEVENT
BEGIN:VEVENT
DTSTART;TZID=UTC:20250227T110000
DTEND;TZID=UTC:20250227T235900
DTSTAMP:20260419T184542
CREATED:20240126T181003Z
LAST-MODIFIED:20250131T062045Z
UID:1346-1740654000-1740700740@c-c-v.info
SUMMARY:Altweiber beim Köhn im Gasthof Schön
DESCRIPTION:Erneut findet der CCV Altweiber in Zusammenarbeit mit dem Hotel Hennemann beim Köhn im Gasthof Schön statt.
URL:https://c-c-v.info/event/altweiber-beim-koehn-im-gasthof-schoen
LOCATION:Beim Köhn im Gasthof Schön\, Olper Straße\, Cobbenrode\, NRW\, 59889e\, Germany
CATEGORIES:Session 2024/25,Termine
ATTACH;FMTTYPE=image/jpeg:https://c-c-v.info/wp-content/uploads/2024/01/2025-Altweiber-Flyer.jpg
ORGANIZER;CN="Cobbenroder Carneval Verein CCV e.V":MAILTO:info@c-c-v.info
END:VEVENT
BEGIN:VEVENT
DTSTART;TZID=UTC:20241109T191100
DTEND;TZID=UTC:20241109T235900
DTSTAMP:20260419T184542
CREATED:20241005T100645Z
LAST-MODIFIED:20241005T101036Z
UID:1551-1731179460-1731196740@c-c-v.info
SUMMARY:MEGA-Party VOL.5 - Opening zur Session 2024/25
DESCRIPTION:Nach den Erfolgen der letzten MEGA-Partys mit Brings de Höhner und Paveier steht nun wieder eine Kölner Top-Band in Cobbenrode auf der CCV-Bühne.\nKASCHÄMM konnten für ein komplettes Konzert verpflichtet werden.\nSie sind eine der bekanntesten Karneval-Cover-Bands im Kölner Raum und konnten bereits zusammen mit Brings das Publikum in Cobbenrode begeistern.\nEin Karnevalsspektakel der Extraklasse erwartet Euch.\nDie MEGA-Party 2024 u.a. mit\nKASCHÄMM und DJ Torero. \nFrühbuchertickets unter \nTickets MEGA-Party 2024/25
URL:https://c-c-v.info/event/mega-party-vol-5-opening-zur-session-2024-25
LOCATION:Schützenhalle Cobbenrode\, Olper Straße 11\, Eslohe\, NRW\, 59889\, Deutschland
CATEGORIES:Session 2024/25
ATTACH;FMTTYPE=image/jpeg:https://c-c-v.info/wp-content/uploads/2024/10/Mega-Party_20240929_192754_0000-1024x1024-1.jpg
ORGANIZER;CN="Cobbenroder Carneval Verein CCV e.V":MAILTO:info@c-c-v.info
END:VEVENT
BEGIN:VEVENT
DTSTART;TZID=UTC:20240212T141100
DTEND;TZID=UTC:20240212T220000
DTSTAMP:20260419T184542
CREATED:20231226T092502Z
LAST-MODIFIED:20231230T163149Z
UID:462-1707747060-1707775200@c-c-v.info
SUMMARY:49. Rosenmontagszug des CCV
DESCRIPTION:Alle Narren sind schon wieder jeck uff de Cobbenroder Zug.\nAb Rosenmontag-Mittag ist der Ort im Ausnahmezustand.\nTausende Besucher werden wie jedes Jahr erwartet. \nMotivwagen und Fußgruppen sind wieder mit von der Partie. \nAnschließend die Große After-Zug-Party in der Schützenhalle mit Live-Musik von der Top 40-Band Hit-Mix. \nViel Vergnügen wünscht Euch Euer CCV-Präsidium.
URL:https://c-c-v.info/event/49-rosenmontagszug-des-ccv
LOCATION:Schützenhalle Cobbenrode\, Olper Straße 11\, Eslohe\, NRW\, 59889\, Deutschland
CATEGORIES:Session 2023/24
ATTACH;FMTTYPE=image/jpeg:https://c-c-v.info/wp-content/uploads/2022/04/FB_IMG_1650778127324.jpg
END:VEVENT
BEGIN:VEVENT
DTSTART;TZID=UTC:20240127T191100
DTEND;TZID=UTC:20240127T231100
DTSTAMP:20260419T184542
CREATED:20231226T092502Z
LAST-MODIFIED:20240110T201127Z
UID:306-1706382660-1706397060@c-c-v.info
SUMMARY:63. Prunksitzung des CCV
DESCRIPTION:Colau beim CCV \nheißt es wieder\, \nzur \n63. Prunksitzung des CCV  \nin der Schützenhalle Cobbenrode. \nam \nSamstag\, 27. Januar 2024\nGarde-und Showtänze\, Büttenreden\, Comedians und Karnevalsschlager.  \nu.a. mit \n\nPeter Moreno (3-facher Weltmeister im Bauchreden)\nKölsch Connection\nMännerbalett Ihnetal\nCCV-Garde\nPrinzengarde Fretter\n\nu. v. m. \n  \nDas Präsidium des CCV verspricht wieder ein TOP-Programm.  \nTICKET-Hotline\n\n  \n  \n  \n  \n  \n  \n  \n  \n 
URL:https://c-c-v.info/event/63-prunksitzung-des-ccv
LOCATION:Schützenhalle Cobbenrode\, Olper Straße 11\, Eslohe\, NRW\, 59889\, Deutschland
CATEGORIES:Session 2023/24,Termine
ATTACH;FMTTYPE=image/jpeg:https://c-c-v.info/wp-content/uploads/2023/12/IMG-20231230-WA0003.jpg
END:VEVENT
BEGIN:VEVENT
DTSTART;TZID=UTC:20231103T180000
DTEND;TZID=UTC:20231103T235900
DTSTAMP:20260419T184542
CREATED:20230122T123258Z
LAST-MODIFIED:20231226T092322Z
UID:891-1699034400-1699055940@c-c-v.info
SUMMARY:MEGA-Party 2023/24 mit Paveier und Kaschämm
DESCRIPTION:Nach den Erfolgen der letzten MEGA-Partys mit Brings und de Höhner steht nun wieder eine Kölner Top-Band in Cobbenrode auf der CCV-Bühne.\nDie “PAVEIER” konnten für ein komplettes Konzert verpflichtet werden.\nNeben vielen bekannten Songs der Band gehört vor allem der Titel “Leev Marie” zu ihren größten Erfolgen.\nDes Weiteren steht die Band “KASCHÄMM” auf der Bühne.\nSie sind eine der bekanntesten Karneval-Cover-Bands im Kölner Raum und konnten bereits zusammen mit Brings das Publikum in Cobbenrode begeistern.\nEin Karnevalsspektakel der Extraklasse erwartet Euch.\nDie MEGA-Party 2023 u.a. mit\nPAVEIER\, KASCHÄMM und DJ Torero. \nFrühbuchertickets unter \nTickets MEGA-Party 2023/24 \n \nhttps://c-c-v.info/wp-content/uploads/2023/01/20230122_1318431.mp4\n  \n  \n 
URL:https://c-c-v.info/event/mega-party-2023-24-mit-paveier-und-kaschaemm
LOCATION:Schützenhalle Cobbenrode\, Olper Straße 11\, Eslohe\, NRW\, 59889\, Deutschland
CATEGORIES:Session 2022/23,Session 2023/24,Termine
ATTACH;FMTTYPE=image/jpeg:https://c-c-v.info/wp-content/uploads/2023/01/2087690733-1673792716573-1-scaled.jpg
ORGANIZER;CN="Cobbenroder Carneval Verein CCV e.V":MAILTO:info@c-c-v.info
END:VEVENT
BEGIN:VEVENT
DTSTART;TZID=UTC:20230216T111100
DTEND;TZID=UTC:20230216T235900
DTSTAMP:20260419T184542
CREATED:20230119T102307Z
LAST-MODIFIED:20230203T203839Z
UID:884-1676545860-1676591940@c-c-v.info
SUMMARY:Altweiber
DESCRIPTION:In diesem Jahr findet der Altweiber in der Bierstube des Hotel Hennemann in Cobbenrode statt.
URL:https://c-c-v.info/event/altweiber
LOCATION:Hotel Hennemann\, Olper Straße 28\, Cobbenrode\, NRW\, 59889\, Deutschland
CATEGORIES:Session 2022/23,Termine
ATTACH;FMTTYPE=image/png:https://c-c-v.info/wp-content/uploads/2023/01/2023-Altweiber-Hennemann-Flyer.png
END:VEVENT
BEGIN:VEVENT
DTSTART;TZID=UTC:20221105T180000
DTEND;TZID=UTC:20221105T180000
DTSTAMP:20260419T184542
CREATED:20220403T053422Z
LAST-MODIFIED:20221027T125159Z
UID:35-1667671200-1667671200@c-c-v.info
SUMMARY:MEGA-Party 2022/23 m. HÖHNER
DESCRIPTION:Ticket-Hotline \nhttps://c-c-v.info/wp-content/uploads/2022/04/YouCut_20221027_144936115.mp4\n 
URL:https://c-c-v.info/event/mega-party-2022-23
LOCATION:Schützenhalle Cobbenrode\, Olper Straße 11\, Eslohe\, NRW\, 59889\, Deutschland
CATEGORIES:Session 2022/23,Termine
ATTACH;FMTTYPE=image/jpeg:https://c-c-v.info/wp-content/uploads/2022/04/image-1.jpeg
ORGANIZER;CN="Cobbenroder Carneval Verein CCV e.V":MAILTO:info@c-c-v.info
END:VEVENT
BEGIN:VEVENT
DTSTART;TZID=UTC:20220514T191100
DTEND;TZID=UTC:20220514T235900
DTSTAMP:20260419T184542
CREATED:20220403T084457Z
LAST-MODIFIED:20220509T131619Z
UID:132-1652555460-1652572740@c-c-v.info
SUMMARY:MEGA-Party 2021/22 m. BRINGS
DESCRIPTION:Die MEGA-Party mit BRINGS und Kaschämm \nam \nSamstag\, 14. Mai 2022 ab 19.11 Uhr \nEinlass ab 18.11 Uhr ! \n  \nEinige Tickets sind noch verfügbar.\nTicketanfragen in dieser Woche nur noch per Mail an info@cobbenrode.shop \n\nBitte Ticket und Personalausweis am Eingang bereithalten. \nImpf- bzw. Genesenenstatus wird nicht abgefragt. \n  \nBitte gebt diese Informationen an alle Eure Ticketinhaber weiter. \nFreut Euch auf den 14.Mai 2022 \nEuer \nCCV Präsidium
URL:https://c-c-v.info/event/mega-party-2021-22
LOCATION:Schützenhalle Cobbenrode\, Olper Straße 11\, Eslohe\, NRW\, 59889\, Deutschland
CATEGORIES:Session 2022/23,Termine
ATTACH;FMTTYPE=image/jpeg:https://c-c-v.info/wp-content/uploads/2022/04/FlyerMegaParty2021_16_9.jpg
ORGANIZER;CN="Cobbenroder Carneval Verein CCV e.V":MAILTO:info@c-c-v.info
END:VEVENT
END:VCALENDAR